BEGIN:VCALENDAR
VERSION:2.0
PRODID:-//Sprague Energy - ECPv6.10.2//NONSGML v1.0//EN
CALSCALE:GREGORIAN
METHOD:PUBLISH
X-ORIGINAL-URL:https://www.spragueenergy.com
X-WR-CALDESC:Events for Sprague Energy
REFRESH-INTERVAL;VALUE=DURATION:PT1H
X-Robots-Tag:noindex
X-PUBLISHED-TTL:PT1H
BEGIN:VTIMEZONE
TZID:UTC
BEGIN:STANDARD
TZOFFSETFROM:+0000
TZOFFSETTO:+0000
TZNAME:UTC
DTSTART:20240101T000000
END:STANDARD
END:VTIMEZONE
BEGIN:VTIMEZONE
TZID:America/New_York
BEGIN:DAYLIGHT
TZOFFSETFROM:-0500
TZOFFSETTO:-0400
TZNAME:EDT
DTSTART:20240310T070000
END:DAYLIGHT
BEGIN:STANDARD
TZOFFSETFROM:-0400
TZOFFSETTO:-0500
TZNAME:EST
DTSTART:20241103T060000
END:STANDARD
END:VTIMEZONE
BEGIN:VEVENT
DTSTART;VALUE=DATE:20260422
DTEND;VALUE=DATE:20260423
DTSTAMP:20260425T214429
CREATED:20260309T180155Z
LAST-MODIFIED:20260309T180212Z
UID:48626-1776816000-1776902399@www.spragueenergy.com
SUMMARY:NYSHTA Hospitality Knowledge Exchange
DESCRIPTION:Join the New York State Hospitality & Tourism Association for the Hospitality Knowledge Exchange\, a collaborative event designed to bring together hospitality and tourism professionals from across New York State. Attendees can participate in expert-led educational sessions\, share best practices\, and connect with peers and industry partners to discuss trends\, operational challenges\, and opportunities shaping the hospitality industry.
URL:https://www.spragueenergy.com/event/nyshta-hospitality-knowledge-exchange/
LOCATION:Fort William Henry Hotel & Conference Center – The Carriage House\, 48 Canada St\, Lake George\, NY\, 12845\, United States
CATEGORIES:Conference,Convention,Trade Show
ORGANIZER;CN="NYSHTA":MAILTO:info@nyshta.org
END:VEVENT
BEGIN:VEVENT
DTSTART;VALUE=DATE:20260422
DTEND;VALUE=DATE:20260423
DTSTAMP:20260425T214429
CREATED:20260309T175601Z
LAST-MODIFIED:20260309T175601Z
UID:48624-1776816000-1776902399@www.spragueenergy.com
SUMMARY:NY Cooperator Expo
DESCRIPTION:The CooperatorEvents New York Expo (Coopexpo) is a leading industry trade show that brings together professionals involved in the management and operation of cooperative\, condominium\, and apartment buildings. Held annually in New York City\, the event features hundreds of exhibitors offering building services such as energy solutions\, property management\, legal services\, and building maintenance. Attendees—including property managers\, board members\, building owners\, and real estate professionals—can explore new vendors\, attend educational seminars\, receive expert advice\, and network with peers to find solutions that improve building operations and efficiency.
URL:https://www.spragueenergy.com/event/ny-cooperator-expo/
LOCATION:New York Hilton Midtown\, 335 Avenue of the Americas (at 53rd Street)\, new york\, NY\, 10019\, United States
CATEGORIES:Conference,Trade Show
END:VEVENT
BEGIN:VEVENT
DTSTART;VALUE=DATE:20260415
DTEND;VALUE=DATE:20260417
DTSTAMP:20260425T214429
CREATED:20260309T174346Z
LAST-MODIFIED:20260309T174346Z
UID:48620-1776211200-1776383999@www.spragueenergy.com
SUMMARY:NEBFM Northeast Buildings & Facilities Management Trade Show & Conference
DESCRIPTION:NEBFM 2026 will feature over 240 companies displaying products and services necessary for the operation\, management\, maintenance and renovation of buildings and facilities in the Northeast.
URL:https://www.spragueenergy.com/event/nebfm-northeast-buildings-facilities-management-trade-show-conference/
LOCATION:DCU Center\, 50 Foster St\, Worcester\, MA\, 01608\, United States
CATEGORIES:Conference,Trade Show
END:VEVENT
BEGIN:VEVENT
DTSTART;VALUE=DATE:20260406
DTEND;VALUE=DATE:20260409
DTSTAMP:20260425T214429
CREATED:20260309T173129Z
LAST-MODIFIED:20260309T173136Z
UID:48616-1775433600-1775692799@www.spragueenergy.com
SUMMARY:TANY Safe-T: NY's Safe Trucking Symposium
DESCRIPTION:Join TANY at NY’s Safe Trucking Symposium\, is a successful public-private partnership\, hosted by the Trucking Association of New York (TANY)\, the NYS Department of Motor Vehicles\, the NYS Department of Transportation\, the Governor’s Traffic Safety Committee\, and the Federal Motor Carrier Safety Administration. It is the New York State premier truck safety event\, providing attendees with the latest information on issues and compliance initiatives facing the trucking industry.
URL:https://www.spragueenergy.com/event/tany-safe-t-nys-safe-trucking-symposium/
LOCATION:Saratoga Hilton / Saratoga City Center\, 534 Broadway / 522 Broadway\, Saratoga Springs\, NY\, 12866\, United States
CATEGORIES:Conference,Convention,Trade Show
END:VEVENT
BEGIN:VEVENT
DTSTART;TZID=UTC:20260310T070000
DTEND;TZID=UTC:20260310T153000
DTSTAMP:20260425T214429
CREATED:20260309T172606Z
LAST-MODIFIED:20260309T172606Z
UID:48612-1773126000-1773156600@www.spragueenergy.com
SUMMARY:69th NJAPA Paving Conference
DESCRIPTION:Join NJAPA at the Annual Asphalt Pavement Conference. This is New Jersey’s top event for professionals working in all phases of asphalt paving construction\, operations\, and research. Now in its 68th year\, the New Jersey Asphalt Paving Conference draws more than 300 consultants\, contractors\, suppliers\, designers\, government agency employees\, researchers\, and others involved in the paving industry. \nThis is the perfect opportunity to stay current with the latest advancements in the industry and make connections with other professionals to share your ideas\, challenges\, and success stories. The event is widely attended by asphalt paving contractors\, consulting engineers\, county engineers\, road supervisors\, and municipal engineers.  \nSpeakers address issues of quality\, research\, product and process innovations\, recycling\, deep strength/full-depth asphalt\, and related construction practices.
URL:https://www.spragueenergy.com/event/69th-njapa-paving-conference/
LOCATION:Forsgate Country Club\, 375 Forsgate Drive\, Monroe Township\, NJ\, 08831\, United States
CATEGORIES:Conference,Trade Show
ORGANIZER;CN="NJAPA":MAILTO:staceyl@njapa.com
END:VEVENT
BEGIN:VEVENT
DTSTART;VALUE=DATE:20260308
DTEND;VALUE=DATE:20260310
DTSTAMP:20260425T214429
CREATED:20260309T171436Z
LAST-MODIFIED:20260309T171436Z
UID:48608-1772928000-1773100799@www.spragueenergy.com
SUMMARY:Ocean City Hotel-Motel-Restaurant Association Spring Trade Expo
DESCRIPTION:The Ocean City Spring Trade Expo unites buyers and sellers from the hospitality and foodservice industries over a dynamic two-day event where attendees can efficiently network and prepare for the upcoming summer season. Organized by the non-profit Ocean City Hotel-Motel-Restaurant Association\, this highly anticipated Expo attracts nearly 5\,000 visitors\, features over 505 exhibit booths\, and offers free educational sessions and culinary demonstrations.
URL:https://www.spragueenergy.com/event/ocean-city-hotel-motel-restaurant-association-spring-trade-expo/
LOCATION:Roland E. Powell Convention Center\, 4001 Coastal Hwy\, Ocean City\, MD\, 21842\, United States
CATEGORIES:Conference,Trade Show
END:VEVENT
BEGIN:VEVENT
DTSTART;VALUE=DATE:20250609
DTEND;VALUE=DATE:20250612
DTSTAMP:20260425T214429
CREATED:20241003T193229Z
LAST-MODIFIED:20241003T193519Z
UID:45259-1749427200-1749686399@www.spragueenergy.com
SUMMARY:International Liquid Terminals Association (ILTA) Conference and Tradeshow
DESCRIPTION:The ILTA Conference and Trade Show is the largest industry gathering with 4\,500 liquid terminal industry professionals.
URL:https://www.spragueenergy.com/event/international-liquid-terminals-association-ilta-conference-and-tradeshow/
LOCATION:George R Brown Convention Center\, 1001 Avenida de las Americas\, Houston\, TX\, 77010\, United States
CATEGORIES:Conference,Trade Show
END:VEVENT
BEGIN:VEVENT
DTSTART;VALUE=DATE:20241101
DTEND;VALUE=DATE:20241102
DTSTAMP:20260425T214429
CREATED:20241003T185500Z
LAST-MODIFIED:20241003T185642Z
UID:45249-1730419200-1730505599@www.spragueenergy.com
SUMMARY:Massachusetts State Automobile Dealers Association (MSADA) Annual Meeting
DESCRIPTION:The MSADA Annual Meeting is happening on Friday\, November 1st at the Encore Boston Harbor Hotel & Casino. Sprague is a proud member of MSADA and we are excited to attend and network with fellow members. Don’t miss industry experts\, exciting speakers\, alongside legislative and regulatory updates\, and reports from MSADA’s president and the National Automobile Dealers Association (NADA). Don’t miss this chance to gain valuable insights and connect with key players in the industry.
URL:https://www.spragueenergy.com/event/massachusetts-state-automobile-dealers-association-msada-annual-meeting/
LOCATION:MSADA Annual Meeting\, 1 Broadway\, Everett\, MA\, 02149\, United States
CATEGORIES:Conference
END:VEVENT
BEGIN:VEVENT
DTSTART;VALUE=DATE:20241022
DTEND;VALUE=DATE:20241023
DTSTAMP:20260425T214429
CREATED:20240916T174428Z
LAST-MODIFIED:20241003T181003Z
UID:45144-1729555200-1729641599@www.spragueenergy.com
SUMMARY:New Hampshire Grocers Association (NHGA) Fall Conference
DESCRIPTION:The New Hampshire Grocers Association (NHGA) is holding its annual Fall Conference & Expo on Tuesday\, October 22nd\, at the Nashua Event Center in Nashua\, NH. With limited spots remaining\, attendees are encouraged to register promptly to secure their place at this year’s event. \nKeynote speaker Kevin Paul Scott\, a renowned leadership and inspiration expert\, will be delivering two sessions at the conference. His presentations will focus on the power of perspective and the importance of creating a culture of inspiration. Additionally\, attendees will have the opportunity to learn from Toni Runci\, a seasoned HR consultant\, who will discuss strategies for attracting\, hiring\, and retaining employees. Jim Gaudet\, a Loss Prevention expert\, will also be sharing insights on common loss prevention issues and how retailers can protect their businesses. \n\nSprague is a proud sponsor of the NHGA and will be exhibiting at this years event.
URL:https://www.spragueenergy.com/event/new-hampshire-grocers-associaiton-nhga-fall-conference/
LOCATION:Nashua Event Center\, 2200 Southwood Drive\, Nashua\, NH\, United States
CATEGORIES:Conference
END:VEVENT
BEGIN:VEVENT
DTSTART;VALUE=DATE:20241015
DTEND;VALUE=DATE:20241018
DTSTAMP:20260425T214429
CREATED:20240916T174347Z
LAST-MODIFIED:20241003T175028Z
UID:45143-1728950400-1729209599@www.spragueenergy.com
SUMMARY:Pennsylvania Petroleum Association (PPA) Fall Energy Conference
DESCRIPTION:The PPA is excited to bring together industry leaders for their premier membership event in Lancaster. Join them in October 2024 to learn\, network\, and connect.
URL:https://www.spragueenergy.com/event/pennsylvania-petroleum-association-ppa-fall-energy-conference/
LOCATION:PPA Fall Energy Conference\, 25 S Queen St\, Lancaster\, PA\, 17603\, United States
CATEGORIES:Conference
END:VEVENT
BEGIN:VEVENT
DTSTART;VALUE=DATE:20241007
DTEND;VALUE=DATE:20241008
DTSTAMP:20260425T214429
CREATED:20240916T174121Z
LAST-MODIFIED:20241003T172744Z
UID:45141-1728259200-1728345599@www.spragueenergy.com
SUMMARY:AltWheels Fleet Day
DESCRIPTION:AltWheels Fleet Day is an annual sustainable transportation event that brings together corporate and municipal fleet managers and clean-fleet stakeholders working to reduce emissions\, increase reliability\, and lower costs for tomorrow’s transportation needs. \n 
URL:https://www.spragueenergy.com/event/altwheels-fleet-day/
LOCATION:AltWheels\, 1125 Boston-Providence Turnpike\, Norwood\, MA\, 02062\, United States
CATEGORIES:Conference,Trade Show
END:VEVENT
BEGIN:VEVENT
DTSTART;VALUE=DATE:20241006
DTEND;VALUE=DATE:20241009
DTSTAMP:20260425T214429
CREATED:20241003T184419Z
LAST-MODIFIED:20241003T184846Z
UID:45246-1728172800-1728431999@www.spragueenergy.com
SUMMARY:New York State Hospitality and Tourism (NYSHTA) Hospitality Summit
DESCRIPTION:Sprague will be exhibiting at the Hospitality Summit where NYSHTA will partner with the NYS Restaurant Association to host the fourth annual event\, featuring a welcome reception with open bar & appetizers\, breakfast\, lunch with keynote speaker\, education sessions\, dinner\, and more! \nSprague is proud to be a preferred partner of NYSHTA.
URL:https://www.spragueenergy.com/event/new-york-state-hospitality-and-tourism-nyshta-hospitality-summit/
LOCATION:NYSHTA Hospitality Summit\, 199 Woodcliff Dr\, Fairport\, NY\, 14450\, United States
CATEGORIES:Conference
END:VEVENT
BEGIN:VEVENT
DTSTART;VALUE=DATE:20241002
DTEND;VALUE=DATE:20241005
DTSTAMP:20260425T214429
CREATED:20241003T183852Z
LAST-MODIFIED:20241003T184111Z
UID:45244-1727827200-1728086399@www.spragueenergy.com
SUMMARY:Empire State Energy Conference
DESCRIPTION:The 7th Annual Empire State Energy Conference will bring energy industry leaders and supporters from across New York to the Turning Stone Resort Casino in Verona\, New York. All associations and affiliates located in New York and the Northeast are welcome to participate in this two-day conference. \nVisit Sprague at table 8!
URL:https://www.spragueenergy.com/event/empire-state-energy-conference/
LOCATION:Empire State Energy Conference\, 5218 Patrick Rd\, Verona\, NY\, 13478\, United States
CATEGORIES:Conference
END:VEVENT
BEGIN:VEVENT
DTSTART;VALUE=DATE:20240923
DTEND;VALUE=DATE:20240925
DTSTAMP:20260425T214429
CREATED:20240916T174027Z
LAST-MODIFIED:20241003T173912Z
UID:45140-1727049600-1727222399@www.spragueenergy.com
SUMMARY:Southern New England Energy Conference (SNEEC)
DESCRIPTION:The eighth SNEEC conference returns to the Fall this year for petroleum marketers and industry vendors.  It is co-sponsored by the Connecticut Energy Marketers Association\, the Energy Marketers Association of Rhode Island and the Massachusetts Energy Marketers Association and the New York State Energy Coalition. \nThe conference represents fuel oil markets in CT\, MA\, RI and NY counties of NY City and Long Island. Retailers sell 1.44 billion gallons of fuel oil to 2 million residential customers in this region\, representing 41% of all fuel oil sold in the U.S. annually! This conference is dedicated to providing meaningful education to those retailers. They offer up to 28 vendor exhibits\, which are excellent networking opportunities for a conference our size.
URL:https://www.spragueenergy.com/event/southern-new-england-energy-conference-sneec/
LOCATION:SNEEC\, 25 America's Cup Ave\, Newport\, RI\, 02840\, United States
CATEGORIES:Conference
END:VEVENT
END:VCALENDAR